BEGIN:VCALENDAR
PRODID:-//eluceo/ical//2.0/EN
VERSION:2.0
CALSCALE:GREGORIAN
BEGIN:VEVENT
UID:73f346d52650c281afcd3933fcc883fe
DTSTAMP:20260422T085553Z
SUMMARY:LABO Patrimoine Mansfeld 
DESCRIPTION:Erliefnis Ausfluch fir Kanner tëscht 8 – 12 Joer
DTSTART;TZID=Europe/Luxembourg:20230923T140000
DTEND;TZID=Europe/Luxembourg:20230923T180000
LOCATION:@ luca - Luxembourg Center for Architecture an zu Clausen
ORGANIZER;CN=Luca.lu:mailto:office@luca.lu
END:VEVENT
BEGIN:VTIMEZONE
TZID:Europe/Luxembourg
BEGIN:DAYLIGHT
DTSTART:20230923T140000
TZNAME:CEST
TZOFFSETTO:+0200
TZOFFSETFROM:+0200
END:DAYLIGHT
END:VTIMEZONE
END:VCALENDAR
