BEGIN:VCALENDAR
PRODID:-//eluceo/ical//2.0/EN
VERSION:2.0
CALSCALE:GREGORIAN
BEGIN:VEVENT
UID:7688ffeae88c5e316d3a90340746a442
DTSTAMP:20260423T005953Z
SUMMARY:Urban Governance as Enabler 
DESCRIPTION:Prof Tatjana Schneider (Professor of Architectural Theory\, TU 
 Braunschweig) & Finn Williams (City Architect of Malmö)
DTSTART;TZID=Europe/Luxembourg:20240619T183000
DTEND;TZID=Europe/Luxembourg:20240619T200000
LOCATION:@ luca - Luxembourg Center for Architecture
ORGANIZER;CN=Luca.lu:mailto:office@luca.lu
END:VEVENT
BEGIN:VTIMEZONE
TZID:Europe/Luxembourg
BEGIN:DAYLIGHT
DTSTART:20240619T183000
TZNAME:CEST
TZOFFSETTO:+0200
TZOFFSETFROM:+0200
END:DAYLIGHT
END:VTIMEZONE
END:VCALENDAR
