BEGIN:VCALENDAR
PRODID:-//eluceo/ical//2.0/EN
VERSION:2.0
CALSCALE:GREGORIAN
BEGIN:VEVENT
UID:432217ad33b5e1aeba0e23eda4fda7ff
DTSTAMP:20260425T033551Z
SUMMARY:Guided tour in English
DESCRIPTION:Exhibition "Jean-Christophe Quinton. The otherness of rooms and
  the promise of forms"
DTSTART;TZID=Europe/Luxembourg:20240824T163000
DTEND;TZID=Europe/Luxembourg:20240824T171500
LOCATION:@ LUCA - Luxembourg Center for Architecture
ORGANIZER;CN=Luca.lu:mailto:office@luca.lu
END:VEVENT
BEGIN:VTIMEZONE
TZID:Europe/Luxembourg
BEGIN:DAYLIGHT
DTSTART:20240824T163000
TZNAME:CEST
TZOFFSETTO:+0200
TZOFFSETFROM:+0200
END:DAYLIGHT
END:VTIMEZONE
END:VCALENDAR
