BEGIN:VCALENDAR
PRODID:-//eluceo/ical//2.0/EN
VERSION:2.0
CALSCALE:GREGORIAN
BEGIN:VEVENT
UID:c5b7e6c29f20b363fedc8ec96b736c26
DTSTAMP:20260420T014555Z
SUMMARY:Sophie Delhay (Sophie Delhay architecte\, Paris)
DESCRIPTION:La vie Mode d'Emploi
DTSTART;TZID=Europe/Luxembourg:20241129T183000
DTEND;TZID=Europe/Luxembourg:20241129T200000
LOCATION:@ LUCA - Luxembourg Center for Architecture
ORGANIZER;CN=Luca.lu:mailto:office@luca.lu
END:VEVENT
BEGIN:VTIMEZONE
TZID:Europe/Luxembourg
BEGIN:STANDARD
DTSTART:20241129T183000
TZNAME:CET
TZOFFSETTO:+0100
TZOFFSETFROM:+0100
END:STANDARD
END:VTIMEZONE
END:VCALENDAR
