BEGIN:VCALENDAR
PRODID:-//eluceo/ical//2.0/EN
VERSION:2.0
CALSCALE:GREGORIAN
BEGIN:VEVENT
UID:1f2364752f9d8107ca975f7a90a1bc8b
DTSTAMP:20260420T020608Z
SUMMARY:Architects meet Architects
DESCRIPTION:Claudi Aguiló (DATAAE\, Barcelona) + Christophe Aubertin & Aur
 élie Husson (Studiolada\, Nancy) + Bertrand Evrats (He Architectes\, Liè
 ge)
DTSTART;TZID=Europe/Luxembourg:20250116T183000
DTEND;TZID=Europe/Luxembourg:20250116T200000
LOCATION:@ LUCA - Luxembourg Center for Architecture
ORGANIZER;CN=Luca.lu:mailto:office@luca.lu
END:VEVENT
BEGIN:VTIMEZONE
TZID:Europe/Luxembourg
BEGIN:STANDARD
DTSTART:20250116T183000
TZNAME:CET
TZOFFSETTO:+0100
TZOFFSETFROM:+0100
END:STANDARD
END:VTIMEZONE
END:VCALENDAR
