BEGIN:VCALENDAR
PRODID:-//eluceo/ical//2.0/EN
VERSION:2.0
CALSCALE:GREGORIAN
BEGIN:VEVENT
UID:bbdeb5718c609d90f92195126cb640b8
DTSTAMP:20260420T110642Z
SUMMARY:Architectures Modulables
DESCRIPTION:Atelier pour enfants (6–9 ans) | SOLD OUT!
DTSTART;TZID=Europe/Luxembourg:20250517T143000
DTEND;TZID=Europe/Luxembourg:20250517T153000
LOCATION:@ LUCA - Luxembourg Center for Architecture
ORGANIZER;CN=Luca.lu:mailto:office@luca.lu
END:VEVENT
BEGIN:VTIMEZONE
TZID:Europe/Luxembourg
BEGIN:DAYLIGHT
DTSTART:20250517T143000
TZNAME:CEST
TZOFFSETTO:+0200
TZOFFSETFROM:+0200
END:DAYLIGHT
END:VTIMEZONE
END:VCALENDAR
