BEGIN:VCALENDAR
PRODID:-//eluceo/ical//2.0/EN
VERSION:2.0
CALSCALE:GREGORIAN
BEGIN:VEVENT
UID:74d248cafa6128e52e4726b3c013607b
DTSTAMP:20260420T110317Z
SUMMARY:Führung auf Deutsch
DESCRIPTION:Ausstellung „Our New Housing – An Invitation to Cooperate
 “
DTSTART;TZID=Europe/Luxembourg:20250429T170000
DTEND;TZID=Europe/Luxembourg:20250429T174500
LOCATION:@ LUCA - Luxembourg Center for Architecture
ORGANIZER;CN=Luca.lu:mailto:office@luca.lu
END:VEVENT
BEGIN:VTIMEZONE
TZID:Europe/Luxembourg
BEGIN:DAYLIGHT
DTSTART:20250429T170000
TZNAME:CEST
TZOFFSETTO:+0200
TZOFFSETFROM:+0200
END:DAYLIGHT
END:VTIMEZONE
END:VCALENDAR
