BEGIN:VCALENDAR
PRODID:-//eluceo/ical//2.0/EN
VERSION:2.0
CALSCALE:GREGORIAN
BEGIN:VEVENT
UID:d63846b18ca1b6632fa924f59542a6b4
DTSTAMP:20260421T112810Z
SUMMARY:Innovation dans le domaine du logement
DESCRIPTION:Constance Uyttebrouck (LISER\, LU) + Martin Stoz (TOGETHER IMMO
 \, LU) + Jean-Paul Scheuren (REBOOST\, LU) + Stewart Davison (PROPTECH PEE
 R GROUP\, UK) + Anna Puigjaner (MAIO\, ES)
DTSTART;TZID=Europe/Luxembourg:20251010T173000
DTEND;TZID=Europe/Luxembourg:20251010T210000
LOCATION:@ LuxExpo The Box
ORGANIZER;CN=Luca.lu:mailto:office@luca.lu
END:VEVENT
BEGIN:VTIMEZONE
TZID:Europe/Luxembourg
BEGIN:DAYLIGHT
DTSTART:20251010T173000
TZNAME:CEST
TZOFFSETTO:+0200
TZOFFSETFROM:+0200
END:DAYLIGHT
END:VTIMEZONE
END:VCALENDAR
