BEGIN:VCALENDAR
PRODID:-//eluceo/ical//2.0/EN
VERSION:2.0
CALSCALE:GREGORIAN
BEGIN:VEVENT
UID:cecdc6573b10268f6b77dd221ff2db91
DTSTAMP:20260421T094333Z
SUMMARY:Festival des Territoires Résilients
DESCRIPTION:Imaginer\, Résister\, Co-construire ... à Differdange
DTSTART;TZID=Europe/Luxembourg:20251004T100000
DTEND;TZID=Europe/Luxembourg:20251004T220000
LOCATION:@ Parc Gerlache & M-Tiss Café (Differdange)
ORGANIZER;CN=Luca.lu:mailto:office@luca.lu
END:VEVENT
BEGIN:VTIMEZONE
TZID:Europe/Luxembourg
BEGIN:DAYLIGHT
DTSTART:20251004T100000
TZNAME:CEST
TZOFFSETTO:+0200
TZOFFSETFROM:+0200
END:DAYLIGHT
END:VTIMEZONE
END:VCALENDAR
