BEGIN:VCALENDAR
PRODID:-//eluceo/ical//2.0/EN
VERSION:2.0
CALSCALE:GREGORIAN
BEGIN:VEVENT
UID:39dcb1bc407d4905067e11209e9eae03
DTSTAMP:20260420T044442Z
SUMMARY:Visitt guidée op Lëtzebuergesch
DESCRIPTION:Ausstellung "Charles Arendt (1825–1910) : Staatsarchitekt" | 
 SOLD OUT
DTSTART;TZID=Europe/Luxembourg:20260117T150000
DTEND;TZID=Europe/Luxembourg:20260117T154500
LOCATION:@ LUCA - Luxembourg Center for Architecture
ORGANIZER;CN=Luca.lu:mailto:office@luca.lu
END:VEVENT
BEGIN:VTIMEZONE
TZID:Europe/Luxembourg
BEGIN:STANDARD
DTSTART:20260117T150000
TZNAME:CET
TZOFFSETTO:+0100
TZOFFSETFROM:+0100
END:STANDARD
END:VTIMEZONE
END:VCALENDAR
