BEGIN:VCALENDAR
PRODID:-//eluceo/ical//2.0/EN
VERSION:2.0
CALSCALE:GREGORIAN
BEGIN:VEVENT
UID:a841e219465f43c03b1cf4136ad394bf
DTSTAMP:20260420T031602Z
SUMMARY:Charles Arendt\, damals und heute
DESCRIPTION:Robert L. Philippart (Historiker\, UNESCO Site Manager hon.) & 
 Thomas Lutgen (Bauforscher und Restaurator\, freischaffend)
DTSTART;TZID=Europe/Luxembourg:20260130T183000
DTEND;TZID=Europe/Luxembourg:20260130T203000
LOCATION:@ LUCA - Luxembourg Center for Architecture
ORGANIZER;CN=Luca.lu:mailto:office@luca.lu
END:VEVENT
BEGIN:VTIMEZONE
TZID:Europe/Luxembourg
BEGIN:STANDARD
DTSTART:20260130T183000
TZNAME:CET
TZOFFSETTO:+0100
TZOFFSETFROM:+0100
END:STANDARD
END:VTIMEZONE
END:VCALENDAR
